BEGIN:VCALENDAR
VERSION:2.0
PRODID:-//Contratero//ES
CALSCALE:GREGORIAN
METHOD:PUBLISH
BEGIN:VEVENT
UID:SSCC PN 493/16@contratero.es
DTSTAMP:20260425T155133Z
DTSTART:20161103T235959
DTEND:20161104T005959
SUMMARY:Cierre: Mantenimiento correctivo\, preventivo y evolutivo d
DESCRIPTION:Mantenimiento correctivo\, preventivo y evolutivo de las aplicaciones HIS y AIDA\\n\\nOrganismo: Servicio de Salud de las Illes Balears\\n\\nVer en Contratero: https://contratero.es/contracts/SSCC PN 493/16
URL:https://contratero.es/contracts/SSCC PN 493/16
STATUS:CONFIRMED
BEGIN:VALARM
TRIGGER:-P1D
ACTION:DISPLAY
DESCRIPTION:Recordatorio: Mantenimiento correctivo\, prev
END:VALARM
END:VEVENT
END:VCALENDAR